BEGIN:VCALENDAR
VERSION:2.0
PRODID:-//Correr en La Rioja - ECPv5.9.2//NONSGML v1.0//EN
CALSCALE:GREGORIAN
METHOD:PUBLISH
X-WR-CALNAME:Correr en La Rioja
X-ORIGINAL-URL:https://correrenlarioja.com
X-WR-CALDESC:Eventos para Correr en La Rioja
BEGIN:VTIMEZONE
TZID:Europe/Madrid
BEGIN:DAYLIGHT
TZOFFSETFROM:+0100
TZOFFSETTO:+0200
TZNAME:CEST
DTSTART:20260329T010000
END:DAYLIGHT
BEGIN:STANDARD
TZOFFSETFROM:+0200
TZOFFSETTO:+0100
TZNAME:CET
DTSTART:20261025T010000
END:STANDARD
END:VTIMEZONE
BEGIN:VEVENT
DTSTART;TZID=Europe/Madrid:20260222T090000
DTEND;TZID=Europe/Madrid:20260222T140000
DTSTAMP:20260422T141631
CREATED:20260113T172452Z
LAST-MODIFIED:20260113T172452Z
UID:18790-1771750800-1771768800@correrenlarioja.com
SUMMARY:XI Ogro Trail
DESCRIPTION:El Ayuntamiento de Autol organiza la undécima edición del Ogro Trail\, que se celebrará el próximo 22 de febrero. La prueba inaugurará la quinta edición del circuito de carreras de montaña ‘La Rioja Mountain Races Chiruca Experience’. \nEn esta edición\, la organización ha incluido cuatro modelos de Trail: \n\nOgro Trail: 28\,8 kilómetros y 3240 metros de desnivel acumulado\nOgrito: 19 kilómetros y 2100 metros de desnivel acumulado\nMarcha Ogrito: con un trazado casi igual a la carrera corta\nOgrillos Race: Trail de iniciación para nacidos entre los años 2007 al 2010 de 6 kilómetros y 300 metros de desnivel positivo\n\nLas salidas de las distintas pruebas se realizará desde la la plaza San Isidro a las 9:00 horas para el Ogro Trail\, Ogrito y Marcha Ogrito; y a las 9:30 para Ogrillos Race. \nLas inscripciones se realizarán a través de la plataforma de avaibooksports.com hasta el 9 de febrero\, a las 23:59 horas.
URL:https://correrenlarioja.com/event/xi-ogro-trail/
LOCATION:Autol\, Autol\, España
CATEGORIES:Carreras
END:VEVENT
BEGIN:VEVENT
DTSTART;TZID=Europe/Madrid:20260222T100000
DTEND;TZID=Europe/Madrid:20260222T130000
DTSTAMP:20260422T141631
CREATED:20251217T180010Z
LAST-MODIFIED:20251217T180010Z
UID:18647-1771754400-1771765200@correrenlarioja.com
SUMMARY:I UR-FARO-UNIR
DESCRIPTION:La Universidad de La Rioja (UR) y la Universidad Internacional de La Rioja (UNIR) organizarán\, junto con la asociación FARO dos eventos deportivos solidarios el domingo 22 de febrero de 2026 bajo el lema ‘Corre por la Vida’. \nLa primera edición de la UR-FARO-UNIR Gladiator Mini Kids y la UR-FARO-UNIR Carrera Familiar\, un evento diseñado para los más pequeños que combina deporte\, diversión y valores solidarios\, tendrán lugar en la zona universitaria\, junto al Polideportivo de la UR\, y se desarrollará en horario de 10:00 a 13:00 horas. \nLas inscripciones se pueden realizar\, en el caso de la UR- FARO-UNIR Gladiator\, a través de la web https://www.deporticket.com/web-evento/12507-ur-faro-unir-gladiator-kids. Para participar en la prueba UR FARO UNIR FAMILIAR\, el enlace de inscripción es https://inscripciones.ferrersport.com/node/47. Además\, en ambas ambas plataformas se puede adquirir un dorsal solidario. \nEn la prueba infantil\, el precio de la inscripción individual es de 15 euros (por menor acompañado de adulto). En la familiar\, la inscripción individual cuesta 15 euros y existe la posibilidad de inscripciones grupales de 4 (45 €) o 6 personas (60 euros). \nEste evento solidario deportivo nace con el objetivo de fomentar la actividad física entre niños y niñas en un ambiente familiar\, promoviendo valores como el esfuerzo\, el compañerismo y la superación personal a través del deporte. La UR y UNIR se alían para ofrecer un espacio de diversión y aprendizaje con múltiples actividades complementarias para los asistentes. \nMás allá del desafío deportivo\, ambas actividades tienen un marcado carácter solidario\, dado que todo lo recaudado durante el evento será destinado a la asociación FARO\, que entregará íntegramente los fondos a la Fundación para la Investigación Biomédica del Hospital Infantil Universitario Niño Jesús de Madrid\, destinados al programa de investigación del Servicio de Hemato-Oncología Pediátrica\, que trabaja en nuevas líneas de tratamiento y mejora de la calidad de vida de los niños y adolescentes con cáncer.
URL:https://correrenlarioja.com/event/i-ur-faro-unir/
LOCATION:Universida de La Rioja\, Calle la Cigüeña\, 60\, Logroño\, España
CATEGORIES:Carreras
END:VEVENT
END:VCALENDAR