BEGIN:VCALENDAR
VERSION:2.0
PRODID:-//Correr en La Rioja - ECPv5.9.2//NONSGML v1.0//EN
CALSCALE:GREGORIAN
METHOD:PUBLISH
X-WR-CALNAME:Correr en La Rioja
X-ORIGINAL-URL:https://correrenlarioja.com
X-WR-CALDESC:Eventos para Correr en La Rioja
BEGIN:VTIMEZONE
TZID:Europe/Madrid
BEGIN:DAYLIGHT
TZOFFSETFROM:+0100
TZOFFSETTO:+0200
TZNAME:CEST
DTSTART:20250330T010000
END:DAYLIGHT
BEGIN:STANDARD
TZOFFSETFROM:+0200
TZOFFSETTO:+0100
TZNAME:CET
DTSTART:20251026T010000
END:STANDARD
END:VTIMEZONE
BEGIN:VEVENT
DTSTART;TZID=Europe/Madrid:20251231T111000
DTEND;TZID=Europe/Madrid:20251231T130000
DTSTAMP:20260426T004715
CREATED:20251216T211607Z
LAST-MODIFIED:20251216T211607Z
UID:18637-1767179400-1767186000@correrenlarioja.com
SUMMARY:San Silvestre de Alfaro 2025
DESCRIPTION:El Ayuntamiento de Alfaro organiza la San Silvestre que se celebrará el próximo 31 de diciembre. El evento dará comienzo a las 11:10 horas con las categoría inferiores desde la Plaza de España. El recorrido tendrá dos circuitos\, unos especial para las categorías pre-benjamín a infantil y otro de 1\,2 kilómetros para el resto. \nEl horario y el recorrido será el siguiente: \n11:10 Pre-benjamín (Nacidos en 2018 y Posteriores): Circuito especial 1 vuelta\n11:20 Benjamín (Nacidos en 2016 y 2017): Circuito especial 2 vueltas\n11:30 Alevín ( Nacidos en 2014 y 2015): Circuito especial 2 vueltas\n11:40 Infantil (Nacidos en 2012 y 2013): Circuito especial 3 vueltas\n12:00 Cadete (Nacidos en 2010 y 2011): Circuito normal 1 vuelta\n12:00 Juvenil (Nacidos en 2007\, 2008 y 2009): Circuito normal 2 vueltas\n12:00 Senior (resto): Circuito normal 4 vueltas \nLa inscripción se realizará de forma online hasta el 28 de diciembre a través de la plataforma de deporticket.com o el día de la prueba en la Plaza de España.
URL:https://correrenlarioja.com/event/san-silvestre-de-alfaro-2025/
LOCATION:Plaza de España de Alfaro\, Alfaro\, España
CATEGORIES:Carreras
END:VEVENT
BEGIN:VEVENT
DTSTART;TZID=Europe/Madrid:20251231T113000
DTEND;TZID=Europe/Madrid:20251231T130000
DTSTAMP:20260426T004715
CREATED:20251223T171121Z
LAST-MODIFIED:20251228T102952Z
UID:18663-1767180600-1767186000@correrenlarioja.com
SUMMARY:San Silvestre Rinconera 2025 – 19º Memorial Jesús Medrano
DESCRIPTION:El Ayuntamiento de Rincón de Soto organiza la San Silvestre 2025\, 19º Memorial Jesús Medrano\, que se celebrará el próximo 31 de diciembre. \nSe disputarán las siguientes carreras por categorías y en el siguiente orden: \n– 11:30 horas. Benjamín femenino (Nacidos entre 2017 y 2018). 450m\n– 11:35 horas. Benjamín masculino (Nacidos entre 2017 y 2018). 450m.\n– 11:45 horas. Alevín mixto (Nacidos entre 2015 y 2016). 800m.\n– 12:00 horas. Infantil mixto (Nacidos entre 2013 y 2014). 1.400m.\n– 12:15 horas. Cadete mixto (Nacidos entre 2011 y 2012); Senior mixto (Nacidos entre 1986 y 2010); Veterano mixto (Nacidos entre 1985 y anteriores). 4.200m\n– 12:45 horas. Prebenjamín mixto (Nacidos entre 2019 y 2020). 400m.\n– 12:55 horas. Chupete mixto (Nacidos entre 2021 y 2025). 200m \nHabrá trofeos para los tres primeros de cada categoría (Benjamín a Veterano) y medallas para todos los participantes en las categorías chupete\, prebenjamín y benjamín. Además habrá premio a los más veteranos masculino y femenino y un jamón al disfraz más original de grupo (mínimo 3 personas) en la categoría absoluta. \nLas inscripciones podrán realizarse el día de la prueba\, hasta las 11:00 horas\, en la línea de salida\, o rellenando el siguiente formulario https://forms.gle/9SpXpAge39nDYpFX8.
URL:https://correrenlarioja.com/event/san-silvestre-rinconera-2025-19o-memorial-jesus-medrano/
LOCATION:Rincón de Soto\, Rincón de Soto\, La Rioja\, España
CATEGORIES:Carreras
END:VEVENT
BEGIN:VEVENT
DTSTART;TZID=Europe/Madrid:20251231T120000
DTEND;TZID=Europe/Madrid:20251231T130000
DTSTAMP:20260426T004715
CREATED:20251227T224750Z
LAST-MODIFIED:20251227T224814Z
UID:18696-1767182400-1767186000@correrenlarioja.com
SUMMARY:San Silvestre de Pradejón 2025
DESCRIPTION:El Ayuntamiento de Pradejón organiza la carrera San Silvestre que tendrá lugar el miércoles\, 31 de diciembre\, a partir de las 12:00 horas en el circuito urbano habilitado para la carrera en la Calle Vicente Lasheras\, Travesía Ezquerro\, Julián Ezquerro Serrano\, Calle Calahorra y Calle Nicolasa Montoya. \nLas inscripciones se realizarán los días 26\, 29 y 30 de diciembre en las oficinas municipales y el día 31 en las carpas habilitadas en Travesía Ezquerro de 11:00 a 11:30 horas. La entrega de dorsales se hará de 11:30 a 11:50 horas en las carpas habilitadas en Travesía Ezquerro.
URL:https://correrenlarioja.com/event/san-silvestre-de-pradejon-2025/
LOCATION:Pradejón\, Pradejón\, La Rioja\, España
CATEGORIES:Carreras
END:VEVENT
BEGIN:VEVENT
DTSTART;TZID=Europe/Madrid:20251231T120000
DTEND;TZID=Europe/Madrid:20251231T130000
DTSTAMP:20260426T004715
CREATED:20251230T212020Z
LAST-MODIFIED:20251230T212020Z
UID:18718-1767182400-1767186000@correrenlarioja.com
SUMMARY:XVIII San Silvestre de Alberite
DESCRIPTION:La Cofradía de la Santa Cruz de Alberite y el Ayuntamiento de Alberite organizan la decimoctava edición de la San Silvestre\, que tendrá a las 12:00 horas\, con salida en la plaza.
URL:https://correrenlarioja.com/event/xviii-san-silvestre-de-alberite/
LOCATION:Alberite\, Alberite\, Spain
CATEGORIES:Carreras
END:VEVENT
BEGIN:VEVENT
DTSTART;TZID=Europe/Madrid:20251231T123000
DTEND;TZID=Europe/Madrid:20251231T133000
DTSTAMP:20260426T004715
CREATED:20251226T111655Z
LAST-MODIFIED:20251226T111655Z
UID:18670-1767184200-1767187800@correrenlarioja.com
SUMMARY:San Silvestre de Fuenmayor 2025
DESCRIPTION:El Club de Atletismo FuchuRunners\, con la colaboración del Ayuntamiento de Fuenmayor\, organiza la San Silvestre 2025 que se celebrará el 31 de diciembre. \nLa carrera tendrá dos modalidades: una infantil\, que comenzará a las 12:30 horas\, y otra para adultos a las 13:15 horas. Ambas carreras tendrán la salida y meta en la Plaza de Tresses. \nLa inscripción será gratuita el día de la carrera en el lugar de la salida\, a partir de las 11:30 horas.
URL:https://correrenlarioja.com/event/san-silvestre-de-fuenmayor-2025/
LOCATION:Fuenmayor\, Fuenmayor\, España
CATEGORIES:Carreras
END:VEVENT
BEGIN:VEVENT
DTSTART;TZID=Europe/Madrid:20251231T123000
DTEND;TZID=Europe/Madrid:20251231T133000
DTSTAMP:20260426T004715
CREATED:20251227T125026Z
LAST-MODIFIED:20251227T125026Z
UID:18689-1767184200-1767187800@correrenlarioja.com
SUMMARY:San Silvestre Najerina 2025
DESCRIPTION:La Peña Juventud de Nájera y el Ayuntamiento de Nájera\, con la colaboración del Club de Montaña K2 y la Peña Atlética Valle del Najerilla organizan la San Silvestre que se celebrará el 31 de diciembre. \nEl evento dará comienzo a las 12:30 en la Plaza de la Santa Cruz\, con la carrera popular sobre una distancia de 3 kilómetros. Posteriormente\, a las 12:45\, tomarán la salida los más pequeños en las carreras infantiles. \nLas inscripciones podrán realizarse de forma gratuita 20 minutos antes de la prueba en la misma plaza.
URL:https://correrenlarioja.com/event/san-silvestre-najerina-2025/
LOCATION:Plaza de la Santa Cruz\, Pl. la Cruz\, Najera\, La Rioja\, Spain
CATEGORIES:Carreras
END:VEVENT
BEGIN:VEVENT
DTSTART;TZID=Europe/Madrid:20251231T130000
DTEND;TZID=Europe/Madrid:20251231T133000
DTSTAMP:20260426T004715
CREATED:20251226T112502Z
LAST-MODIFIED:20251226T112502Z
UID:18674-1767186000-1767187800@correrenlarioja.com
SUMMARY:VIII San Silvestre de Grañón
DESCRIPTION:Octava edición de la San Silvestre de Grañón organizada por el Ayuntamiento de la localidad riojalteña y Clover Sport\, que se celebrará el miércoles\, 31 de diciembre. \nLa prueba constará de tres carreras en base a las siguientes categorías:\n13:00 horas: Baby (2019-2025) de 200 metros .\n13:05 horas: Infantil (2013-2018) de 500 metros.\n13:15 horas: Mayores (anteriores a 2012) de 1.000 metros. \nLa inscripción será gratuita y podrá realizarse en la Plaza desde las 12:00 horas hasta las 13:10 horas.
URL:https://correrenlarioja.com/event/viii-san-silvestre-de-granon/
LOCATION:Grañón\, Grañón\, España
CATEGORIES:Carreras
END:VEVENT
BEGIN:VEVENT
DTSTART;TZID=Europe/Madrid:20251231T130000
DTEND;TZID=Europe/Madrid:20251231T133000
DTSTAMP:20260426T004715
CREATED:20251226T114346Z
LAST-MODIFIED:20251226T114346Z
UID:18677-1767186000-1767187800@correrenlarioja.com
SUMMARY:XVII San Silvestre Calceatense
DESCRIPTION:Santo Domingo de la Calzada despedirá el año en una San Silvestre Calceatense que cumple su decimoséptima edición. \nLa prueba mantiene sus señas de identidad y vuelve a plantearse como una prueba no competitiva\, sin clasificaciones ni premios\, que trata de reunir a la población en un ambiente deportivo y con el colorido de los disfraces de muchos de los participantes antes de las campanadas de fin de año. \nLa calle Madrid será el centro neurálgico de la carrera\, última prueba organizada este año 2025 en Santo Domingo de la Calzada por el Club de Atletismo Calceatense. \nLa inscripción es gratuita y se realizará únicamente presencial en horario de de 11:45 a 12:45 horas en la calle Madrid. \nLos horarios y distancias de las pruebas son los siguientes: \n13:00 – Baby (nacidos entre 2019 y 2025) Distancia de 300m\n13:10 – Infantil (nacidos entre 2009 y 2018) Distancia de 700m\n13:20 – Senior (nacidos en 2010 y anteriores) Distancia de 1.400m
URL:https://correrenlarioja.com/event/xvii-san-silvestre-calceatense/
LOCATION:Santo Domingo de la Calzada\, Santo Domingo de la Calzada\, España
CATEGORIES:Carreras
END:VEVENT
BEGIN:VEVENT
DTSTART;TZID=Europe/Madrid:20251231T160000
DTEND;TZID=Europe/Madrid:20251231T180000
DTSTAMP:20260426T004715
CREATED:20251215T184435Z
LAST-MODIFIED:20251215T184900Z
UID:18628-1767196800-1767204000@correrenlarioja.com
SUMMARY:XLVIII Carrera Popular San Silvestre de Calahorra
DESCRIPTION:El Club Polideportivo Juventud organiza la Carrera Popular San Silvestre de Calahorra\, que este año año cumple la cuadragésimo octava edición. La prueba se celebrará el martes\, 31 de diciembre\, a partir de las 16:00 horas. \nEl evento contará con dos carreras\, una para nacidos hasta el 31 de diciembre de 2011 de 6\,9 kilómetros\, con salida y meta en las instalaciones del Club Polideportivo Juventud (Término Vadillo\, SN)\, y otra de 3\,9 kilómetros para nacidos a partir del 1 de enero de 2012\, con salida en la Plaza del Raso y meta en el Club Polideportivo Juventud. \nLas inscripciones se realizarán on-line hasta el 30 de diciembrea a través de la web deporticket.com. El importe de la inscripción para cada una de las carreras será de 5€\, que incluye la participación en la carrera y una camiseta. \nLa recogida de dorsales se realizará a partir del 16 de diciembre en las instalaciones del Club Polideportivo Juventud.
URL:https://correrenlarioja.com/event/xlviii-carrera-popular-san-silvestre-de-calahorra/
LOCATION:Club Polideportivo Juventud De Calahorra\, Término Vadillo\, SN\, Calahorra\, La Rioja\, España
CATEGORIES:Carreras
END:VEVENT
BEGIN:VEVENT
DTSTART;TZID=Europe/Madrid:20251231T170000
DTEND;TZID=Europe/Madrid:20251231T180000
DTSTAMP:20260426T004715
CREATED:20251219T181224Z
LAST-MODIFIED:20251219T181224Z
UID:18651-1767200400-1767204000@correrenlarioja.com
SUMMARY:XIX San Silvestre de Lardero
DESCRIPTION:Decimonovena edición de la Vuelta popular Lardero San Silvestre\, carrera organizada por Amigos Fondistas de Lardero con la colaboración del Ayuntamiento de Lardero. \nLa San Silvestre de Lardero tiene un fin benéfico y en esta edición lo recaudado en la inscripción será donado a TDAH La Rioja. \nLa carrera contará con dos recorridos: uno para menores de 12 años\, de 1 kilómetro de distancia\, que comenzará a las 17:00 horas; y otro de 3 kilómetros para el resto de corredores\, que comenzará a las 17:30 horas. la salida se realizará escalonadamente desde la calle Bretón de los Herreros. \nLas inscripciones serán el día 27 en el Centro Cívico Entre Ríos en horario de tarde y los días 28\, 29 y 30 en el hogar del jubilado. El precio de la inscripción será de 5 euros\, que irán destinados íntegramente a la asociación.
URL:https://correrenlarioja.com/event/xix-san-silvestre-de-lardero/
LOCATION:Lardero\, Lardero\, La Rioja\, España
CATEGORIES:Carreras
END:VEVENT
BEGIN:VEVENT
DTSTART;TZID=Europe/Madrid:20251231T170000
DTEND;TZID=Europe/Madrid:20251231T183000
DTSTAMP:20260426T004715
CREATED:20251226T110539Z
LAST-MODIFIED:20251226T112552Z
UID:18667-1767200400-1767205800@correrenlarioja.com
SUMMARY:San Silvestre de Arnedo 2025
DESCRIPTION:El Ayuntamiento de Arnedo y el Club de Correr Kan de Vico\, organizan la tradicional Carrera Popular San Silvestre\, que se celebrará el miércoles\, 31 de diciembre. \nLa prueba dará comienzo a las 17:00 horas con las pruebas de los más pequeños para continuar con las distintas categorías durante toda la tarde. \nEl circuito urbano discurrirá fundamentalmente por el centro de la ciudad\, con salida y meta en la Puerta Munillo. Las categorías juvenil\, senior y veterano tendrá un recorrido de 3.500 metros\, dando tres vueltas al circuito\, con salida a las 17:45 horas. \n17:00 horas\, Pre-benjamín (5 y 6 años): 250m\n17:10 horas\, Benjamín (7 y 8 años): 500m\n17:20 horas\, Alevín (9 y 10 años): 1.100m\n17:30 horas\, Infantil (11 y 12 años): 1.500m\n17:45 horas\, Cadete (13 y 14 años): 2.200m\n17:45 horas\, Juvenil (15 a 18 años): 3.500m\n17:45 horas\, Senior (19 a 44 años): 3.500m\n17:45 horas\, Veterano (más de 45 años): 3.500m\n18:30 horas\, primeros pasos \nLa inscripción online podrá hacerse a través del servicio de reservas de la web municipal. También se podrán realizar de manera presencial el día de la carrera de 11:30 h. a 13:00 h. y de 15:30 h. a 16:30 h. en el Hall del Ayuntamiento de Arnedo. \nTal y como se ha hecho en otras ocasiones\, habrá una cuota voluntaria de inscripción: 1 Kg. de comida que irá destinada a la Cruz Roja.\, y que podrá entregarse en el momento de recogida del dorsal.
URL:https://correrenlarioja.com/event/san-silvestre-de-arnedo-2025/
LOCATION:Puerta Munillo\, Arnedo\, La Rioja\, España
CATEGORIES:Carreras
END:VEVENT
BEGIN:VEVENT
DTSTART;TZID=Europe/Madrid:20251231T170000
DTEND;TZID=Europe/Madrid:20251231T190000
DTSTAMP:20260426T004715
CREATED:20251226T115100Z
LAST-MODIFIED:20251226T115100Z
UID:18683-1767200400-1767207600@correrenlarioja.com
SUMMARY:V San Silvestre de Casalarreina
DESCRIPTION:El Ayuntamiento de Casalarreina organiza la San Silvestre\, que se celebrará el miércoles\, 31 de diciembre\, a partir de las 17:00 horas en la Plaza de La Florida. \nSe establecerán tres categorías: \n– Infantil (hasta 12 años) 600 metros\n– Juvenil (entre 13 y 17 años) 2\,2 kilómetros\n– Adultos (a partir de 18 años) 2\,2 kilómetros \nLas inscripciones se realizarán en el lugar de la prueba hasta 30 minutos de la salida.
URL:https://correrenlarioja.com/event/v-san-silvestre-de-casalarreina/
LOCATION:Casalarreina\, Casalarreina\, La Rioja\, España
CATEGORIES:Carreras
END:VEVENT
BEGIN:VEVENT
DTSTART;TZID=Europe/Madrid:20251231T173000
DTEND;TZID=Europe/Madrid:20251231T200000
DTSTAMP:20260426T004715
CREATED:20251205T134625Z
LAST-MODIFIED:20251228T104118Z
UID:18584-1767202200-1767211200@correrenlarioja.com
SUMMARY:XLI San Silvestre de Logroño - XXXV Memorial Tomás Mingot
DESCRIPTION:Cuadragésima primera edición de la carrera San Silvestre – 35 Memorial Tomás Mingot\, que se celebrará el último día del año\, 31 de diciembre\, cita deportiva con la que Logroño despedirá el 2025. Esta prueba deportiva está organizada por Logroño Deporte y cierra el XII Circuito Carreras de Logroño. \nComo ya es tradicional\, se han programado tres pruebas\, todas con salida en Vara de Rey\, frente a la Concha del Espolón: Mini\, 1.000 metros de recorrido\, a las 17:30 horas; Popular\, 4\,4 kilómetros\, a las 18:00 horas; y Competitiva\, 8\,8 Km\, a las 18:45 horas. El punto de llegada de las dos primeras se situará en Muro de la Mata mientras que la Competitiva finalizará en el mismo lugar del que partirá. \nLas inscripciones podrán realizarse desde el 5 de diciembre hasta el 26 de diciembre a las 23:59 horas\, a través de la web RS-Sport o de forma presencial los días 28\, 29\, 30 y 31 en el Centro Deportivo Municipal Lobete sin derecho a camiseta conmemorativa de manera gratuita para las carreras Mini y Popular\, la carrera 8\,8k siempre lleva coste debido a que está cronometrada mediante chip. El horario será de 16:00 a 21:00 horas los días 28\, 29 y 30\, y de 10:00 a 14:00 horas el día 31. El precio de la inscripción es de 2 euros para la carrera infantil\, 4 euros para la San Silvestre Popular y de 5 euros para La San Silvestre Competitiva.
URL:https://correrenlarioja.com/event/xli-san-silvestre-de-logrono-xxxv-memorial-tomas-mingot/
LOCATION:Paseo del Espolón\, FH73+VV Logroño\, Logroño\, España
CATEGORIES:Carreras
END:VEVENT
BEGIN:VEVENT
DTSTART;TZID=Europe/Madrid:20251231T180000
DTEND;TZID=Europe/Madrid:20251231T190000
DTSTAMP:20260426T004715
CREATED:20251226T115804Z
LAST-MODIFIED:20251226T115804Z
UID:18685-1767204000-1767207600@correrenlarioja.com
SUMMARY:Carrera Popular Fin de Año Jarrero 2025
DESCRIPTION:El Ayuntamiento de Haro organiza la Carrera Popular Fin de Año Jarrero\, que se celebrará el martes\, 31 de diciembre\, a partir de las 18:00 horas en la Plaza de la Paz. \nSe establecerán tres categorías: \n– Jarreritos nacidos hasta 2019\, dos vueltas al quiosco\n– Jarreritos nacidos hasta entre 2013 y 2018\, una vuelta al circuito\n– Jarreros nacidos en 2012 y anteriores\, dos vueltas al circuito
URL:https://correrenlarioja.com/event/carrera-popular-fin-de-ano-jarrero-2025/
LOCATION:Haro\, Haro\, España
CATEGORIES:Carreras
END:VEVENT
BEGIN:VEVENT
DTSTART;TZID=Europe/Madrid:20251231T180000
DTEND;TZID=Europe/Madrid:20251231T190000
DTSTAMP:20260426T004715
CREATED:20251228T191921Z
LAST-MODIFIED:20251228T191921Z
UID:18704-1767204000-1767207600@correrenlarioja.com
SUMMARY:VI San Silvestre Ventosina
DESCRIPTION:El Ayuntamiento de Ventosa organiza la sexta edición de la San Silvestre Ventosina\, que se celebrará el 31 de diciembre\, a partir de las 18:00 horas. \nLa prueba tendrá dos recorridos desde la PLaza de Santa Coloma. Al finalizar los participantes estarán invitados a un un caldito calentito en el bar y entrarán en el sorteo de regalos. \nLas inscripciones podrán realizarse a través del email turismoventosa@gmail.com
URL:https://correrenlarioja.com/event/vi-san-silvestre-ventosina/
LOCATION:Ventosa\, Ventosa\, La Rioja\, España
CATEGORIES:Carreras
END:VEVENT
END:VCALENDAR