BEGIN:VCALENDAR
VERSION:2.0
PRODID:-//Correr en La Rioja - ECPv5.9.2//NONSGML v1.0//EN
CALSCALE:GREGORIAN
METHOD:PUBLISH
X-WR-CALNAME:Correr en La Rioja
X-ORIGINAL-URL:https://correrenlarioja.com
X-WR-CALDESC:Eventos para Correr en La Rioja
BEGIN:VTIMEZONE
TZID:Europe/Madrid
BEGIN:DAYLIGHT
TZOFFSETFROM:+0100
TZOFFSETTO:+0200
TZNAME:CEST
DTSTART:20260329T010000
END:DAYLIGHT
BEGIN:STANDARD
TZOFFSETFROM:+0200
TZOFFSETTO:+0100
TZNAME:CET
DTSTART:20261025T010000
END:STANDARD
END:VTIMEZONE
BEGIN:VEVENT
DTSTART;TZID=Europe/Madrid:20260517T100000
DTEND;TZID=Europe/Madrid:20260517T120000
DTSTAMP:20260421T200116
CREATED:20260421T145221Z
LAST-MODIFIED:20260421T145221Z
UID:19282-1779012000-1779019200@correrenlarioja.com
SUMMARY:XVI Carrera Ciruela de Nalda y Quel
DESCRIPTION:Decimosexta edición de la Carrera Ciruela de Nalda y Quel\, que se celebrará el próximo 17 de mayo\, organizada por Ayuntamiento de Quel. La carrera será la sexta prueba del ‘Circuito de Carreras Populares de La Rioja y Navarra Ramón Óptica’. \nCon salida y meta en el Ayuntamiento de Quel\, la carrera discurrirá por las calles de Quel y la Vega del Cidacos\, con una distancia de 10\,200 kilómetros.La prueba comenzará a las 10:00 horas. \nLas inscripciones podrán realizarse hasta hasta el 13 de mayo\, a través de la web de Corredores Populares. No habrá inscripciones presenciales. El precio de la inscripción es de 5 euros.
URL:https://correrenlarioja.com/event/xvi-carrera-ciruela-de-nalda-y-quel/
LOCATION:Quel\, Quel\, España
CATEGORIES:Carreras
END:VEVENT
END:VCALENDAR