BEGIN:VCALENDAR
VERSION:2.0
PRODID:-//Correr en La Rioja - ECPv5.9.2//NONSGML v1.0//EN
CALSCALE:GREGORIAN
METHOD:PUBLISH
X-WR-CALNAME:Correr en La Rioja
X-ORIGINAL-URL:https://correrenlarioja.com
X-WR-CALDESC:Eventos para Correr en La Rioja
BEGIN:VTIMEZONE
TZID:Europe/Madrid
BEGIN:DAYLIGHT
TZOFFSETFROM:+0100
TZOFFSETTO:+0200
TZNAME:CEST
DTSTART:20260329T010000
END:DAYLIGHT
BEGIN:STANDARD
TZOFFSETFROM:+0200
TZOFFSETTO:+0100
TZNAME:CET
DTSTART:20261025T010000
END:STANDARD
END:VTIMEZONE
BEGIN:VEVENT
DTSTART;TZID=Europe/Madrid:20260613T210000
DTEND;TZID=Europe/Madrid:20260613T220000
DTSTAMP:20260420T055011
CREATED:20260110T090002Z
LAST-MODIFIED:20260110T090002Z
UID:18759-1781384400-1781388000@correrenlarioja.com
SUMMARY:XII La Noche más Deportiva
DESCRIPTION:
URL:https://correrenlarioja.com/event/xii-la-noche-mas-deportiva/
LOCATION:Complejo Deportivo Las Norias\, Las Norias\, Logroño\, España
CATEGORIES:Carreras
END:VEVENT
END:VCALENDAR